BEGIN:VCALENDAR
VERSION:2.0
PRODID:-//eventon.com NONSGML v1.0//EN
BEGIN:VEVENT
UID:69e888a588397
DTSTAMP:20260422T083653
DTSTART:20191214T090000Z
DTEND:20191214T113000Z
LOCATION:Well Green Primary School Briony Avenue
SUMMARY:Jupiter v Timperley
DESCRIPTION: Jupiter v Timperley
END:VEVENT
END:VCALENDAR